BEGIN:VCALENDAR
VERSION:2.0
PRODID:-//Trinity Episcopal School - ECPv6.15.20//NONSGML v1.0//EN
CALSCALE:GREGORIAN
METHOD:PUBLISH
X-WR-CALNAME:Trinity Episcopal School
X-ORIGINAL-URL:https://www.trinityschoolfw.org
X-WR-CALDESC:Events for Trinity Episcopal School
REFRESH-INTERVAL;VALUE=DURATION:PT1H
X-Robots-Tag:noindex
X-PUBLISHED-TTL:PT1H
BEGIN:VTIMEZONE
TZID:America/Chicago
BEGIN:DAYLIGHT
TZOFFSETFROM:-0600
TZOFFSETTO:-0500
TZNAME:CDT
DTSTART:20240310T080000
END:DAYLIGHT
BEGIN:STANDARD
TZOFFSETFROM:-0500
TZOFFSETTO:-0600
TZNAME:CST
DTSTART:20241103T070000
END:STANDARD
BEGIN:DAYLIGHT
TZOFFSETFROM:-0600
TZOFFSETTO:-0500
TZNAME:CDT
DTSTART:20250309T080000
END:DAYLIGHT
BEGIN:STANDARD
TZOFFSETFROM:-0500
TZOFFSETTO:-0600
TZNAME:CST
DTSTART:20251102T070000
END:STANDARD
BEGIN:DAYLIGHT
TZOFFSETFROM:-0600
TZOFFSETTO:-0500
TZNAME:CDT
DTSTART:20260308T080000
END:DAYLIGHT
BEGIN:STANDARD
TZOFFSETFROM:-0500
TZOFFSETTO:-0600
TZNAME:CST
DTSTART:20261101T070000
END:STANDARD
BEGIN:DAYLIGHT
TZOFFSETFROM:-0600
TZOFFSETTO:-0500
TZNAME:CDT
DTSTART:20270314T080000
END:DAYLIGHT
BEGIN:STANDARD
TZOFFSETFROM:-0500
TZOFFSETTO:-0600
TZNAME:CST
DTSTART:20271107T070000
END:STANDARD
END:VTIMEZONE
BEGIN:VEVENT
DTSTART;VALUE=DATE:20260211
DTEND;VALUE=DATE:20260212
DTSTAMP:20260424T052300
CREATED:20250729T184824Z
LAST-MODIFIED:20250729T184824Z
UID:12864-1770768000-1770854399@www.trinityschoolfw.org
SUMMARY:MW T/2’s Valentine’s Day Parties
DESCRIPTION:
URL:https://www.trinityschoolfw.org/event/mw-t-2s-valentines-day-parties-2/
CATEGORIES:Notice,School Events
END:VEVENT
BEGIN:VEVENT
DTSTART;VALUE=DATE:20260209
DTEND;VALUE=DATE:20260210
DTSTAMP:20260424T052300
CREATED:20250729T184748Z
LAST-MODIFIED:20250729T184748Z
UID:12862-1770595200-1770681599@www.trinityschoolfw.org
SUMMARY:Reenrollment for current families
DESCRIPTION:
URL:https://www.trinityschoolfw.org/event/reenrollment-for-current-families-4/
CATEGORIES:Notice
END:VEVENT
BEGIN:VEVENT
DTSTART;VALUE=DATE:20260205
DTEND;VALUE=DATE:20260207
DTSTAMP:20260424T052300
CREATED:20250729T184620Z
LAST-MODIFIED:20250729T184720Z
UID:12859-1770249600-1770422399@www.trinityschoolfw.org
SUMMARY:Conferences – No School
DESCRIPTION:
URL:https://www.trinityschoolfw.org/event/conferences-no-school-5/
CATEGORIES:Notice,Teacher Events
END:VEVENT
BEGIN:VEVENT
DTSTART;VALUE=DATE:20260130
DTEND;VALUE=DATE:20260131
DTSTAMP:20260424T052300
CREATED:20250729T184538Z
LAST-MODIFIED:20250729T184538Z
UID:12857-1769731200-1769817599@www.trinityschoolfw.org
SUMMARY:TES Rodeo
DESCRIPTION:
URL:https://www.trinityschoolfw.org/event/tes-rodeo-4/
CATEGORIES:Notice,School Events
END:VEVENT
BEGIN:VEVENT
DTSTART;VALUE=DATE:20260119
DTEND;VALUE=DATE:20260120
DTSTAMP:20260424T052300
CREATED:20250729T184511Z
LAST-MODIFIED:20250729T184511Z
UID:12855-1768780800-1768867199@www.trinityschoolfw.org
SUMMARY:M.L.K. Day – No School
DESCRIPTION:
URL:https://www.trinityschoolfw.org/event/m-l-k-day-no-school-4/
CATEGORIES:Holidays,Notice
END:VEVENT
BEGIN:VEVENT
DTSTART;VALUE=DATE:20260116
DTEND;VALUE=DATE:20260117
DTSTAMP:20260424T052300
CREATED:20250729T184443Z
LAST-MODIFIED:20250729T184443Z
UID:12853-1768521600-1768607999@www.trinityschoolfw.org
SUMMARY:3’s HiBEARnation Day & PreK Chinese New Year
DESCRIPTION:
URL:https://www.trinityschoolfw.org/event/3s-hibearnation-day-prek-chinese-new-year-2/
CATEGORIES:Notice,School Events
END:VEVENT
BEGIN:VEVENT
DTSTART;VALUE=DATE:20260106
DTEND;VALUE=DATE:20260111
DTSTAMP:20260424T052300
CREATED:20250729T184411Z
LAST-MODIFIED:20260105T172629Z
UID:12851-1767657600-1768089599@www.trinityschoolfw.org
SUMMARY:Enrichments Begin
DESCRIPTION:
URL:https://www.trinityschoolfw.org/event/enrichments-begin-4/
CATEGORIES:Notice
END:VEVENT
BEGIN:VEVENT
DTSTART;VALUE=DATE:20260106
DTEND;VALUE=DATE:20260108
DTSTAMP:20260424T052300
CREATED:20250729T184353Z
LAST-MODIFIED:20250729T184353Z
UID:12849-1767657600-1767830399@www.trinityschoolfw.org
SUMMARY:Students return & S&P begins
DESCRIPTION:
URL:https://www.trinityschoolfw.org/event/students-return-sp-begins-4/
CATEGORIES:Notice
END:VEVENT
BEGIN:VEVENT
DTSTART;VALUE=DATE:20260105
DTEND;VALUE=DATE:20260106
DTSTAMP:20260424T052300
CREATED:20250729T184312Z
LAST-MODIFIED:20250729T184312Z
UID:12847-1767571200-1767657599@www.trinityschoolfw.org
SUMMARY:Staff In-service
DESCRIPTION:
URL:https://www.trinityschoolfw.org/event/staff-in-service-12/
CATEGORIES:Teacher Events
END:VEVENT
BEGIN:VEVENT
DTSTART;VALUE=DATE:20251218
DTEND;VALUE=DATE:20260106
DTSTAMP:20260424T052300
CREATED:20250729T175422Z
LAST-MODIFIED:20250729T175422Z
UID:12839-1766016000-1767657599@www.trinityschoolfw.org
SUMMARY:Christmas Break
DESCRIPTION:
URL:https://www.trinityschoolfw.org/event/christmas-break-4/
CATEGORIES:Holidays,Notice
END:VEVENT
BEGIN:VEVENT
DTSTART;VALUE=DATE:20251218
DTEND;VALUE=DATE:20251219
DTSTAMP:20260424T052300
CREATED:20250729T175450Z
LAST-MODIFIED:20250729T175513Z
UID:12841-1766016000-1766102399@www.trinityschoolfw.org
SUMMARY:Staff In-service - Christmas Lunch
DESCRIPTION:
URL:https://www.trinityschoolfw.org/event/staff-in-service-christmas-lunch-2/
CATEGORIES:Teacher Events
END:VEVENT
BEGIN:VEVENT
DTSTART;TZID=America/Chicago:20251217T110000
DTEND;TZID=America/Chicago:20251217T120000
DTSTAMP:20260424T052300
CREATED:20250729T175258Z
LAST-MODIFIED:20250729T175258Z
UID:12833-1765969200-1765972800@www.trinityschoolfw.org
SUMMARY:Fours Program & Party 11am
DESCRIPTION:
URL:https://www.trinityschoolfw.org/event/fours-program-party-11am-3/
CATEGORIES:Family Events,Notice,School Events
END:VEVENT
BEGIN:VEVENT
DTSTART;VALUE=DATE:20251217
DTEND;VALUE=DATE:20251218
DTSTAMP:20260424T052300
CREATED:20250729T175319Z
LAST-MODIFIED:20250729T175319Z
UID:12835-1765929600-1766015999@www.trinityschoolfw.org
SUMMARY:No Stay & Play – Noon Dismissal for Everyone!
DESCRIPTION:
URL:https://www.trinityschoolfw.org/event/no-stay-play-noon-dismissal-for-everyone/
CATEGORIES:Notice
END:VEVENT
BEGIN:VEVENT
DTSTART;VALUE=DATE:20251217
DTEND;VALUE=DATE:20251218
DTSTAMP:20260424T052300
CREATED:20250729T175218Z
LAST-MODIFIED:20250729T175218Z
UID:12831-1765929600-1766015999@www.trinityschoolfw.org
SUMMARY:T/2’s MW & MWF/5 day 3’s Party
DESCRIPTION:
URL:https://www.trinityschoolfw.org/event/t-2s-mw-mwf-5-day-3s-party-2/
CATEGORIES:Notice
END:VEVENT
BEGIN:VEVENT
DTSTART;VALUE=DATE:20251216
DTEND;VALUE=DATE:20251218
DTSTAMP:20260424T052300
CREATED:20250729T175354Z
LAST-MODIFIED:20250729T175354Z
UID:12837-1765843200-1766015999@www.trinityschoolfw.org
SUMMARY:Last Days of School
DESCRIPTION:
URL:https://www.trinityschoolfw.org/event/last-days-of-school-4/
CATEGORIES:Notice
END:VEVENT
BEGIN:VEVENT
DTSTART;VALUE=DATE:20251216
DTEND;VALUE=DATE:20251217
DTSTAMP:20260424T052300
CREATED:20250729T175149Z
LAST-MODIFIED:20250729T175149Z
UID:12829-1765843200-1765929599@www.trinityschoolfw.org
SUMMARY:T/2’s TTh & TThF 3’s Party
DESCRIPTION:
URL:https://www.trinityschoolfw.org/event/t-2s-tth-tthf-3s-party-2/
CATEGORIES:Notice
END:VEVENT
BEGIN:VEVENT
DTSTART;TZID=America/Chicago:20251212T113000
DTEND;TZID=America/Chicago:20251212T123000
DTSTAMP:20260424T052300
CREATED:20250729T175121Z
LAST-MODIFIED:20250729T175121Z
UID:12827-1765539000-1765542600@www.trinityschoolfw.org
SUMMARY:Threes Program – 11:30am
DESCRIPTION:
URL:https://www.trinityschoolfw.org/event/threes-program-1130am-3/
CATEGORIES:Family Events,Notice,School Events
END:VEVENT
BEGIN:VEVENT
DTSTART;VALUE=DATE:20251201
DTEND;VALUE=DATE:20251206
DTSTAMP:20260424T052300
CREATED:20250729T175043Z
LAST-MODIFIED:20250729T175043Z
UID:12825-1764547200-1764979199@www.trinityschoolfw.org
SUMMARY:Last week of Enrichments
DESCRIPTION:
URL:https://www.trinityschoolfw.org/event/last-week-of-enrichments-3/
CATEGORIES:Notice
END:VEVENT
BEGIN:VEVENT
DTSTART;VALUE=DATE:20251124
DTEND;VALUE=DATE:20251129
DTSTAMP:20260424T052300
CREATED:20250729T175010Z
LAST-MODIFIED:20250729T175010Z
UID:12823-1763942400-1764374399@www.trinityschoolfw.org
SUMMARY:Thanksgiving Break – No School
DESCRIPTION:
URL:https://www.trinityschoolfw.org/event/thanksgiving-break-no-school-2/
CATEGORIES:Holidays,Notice
END:VEVENT
BEGIN:VEVENT
DTSTART;TZID=America/Chicago:20251121T103000
DTEND;TZID=America/Chicago:20251121T113000
DTSTAMP:20260424T052300
CREATED:20250729T174720Z
LAST-MODIFIED:20250915T181422Z
UID:12815-1763721000-1763724600@www.trinityschoolfw.org
SUMMARY:Thanksgiving Feasts Threes (10:30am)\, PreK4 & Bridge (11:30am)
DESCRIPTION:
URL:https://www.trinityschoolfw.org/event/thanksgiving-feasts-threes-1030am-2/
CATEGORIES:Notice,School Events
END:VEVENT
BEGIN:VEVENT
DTSTART;VALUE=DATE:20251121
DTEND;VALUE=DATE:20251122
DTSTAMP:20260424T052300
CREATED:20250729T174940Z
LAST-MODIFIED:20250729T174940Z
UID:12821-1763683200-1763769599@www.trinityschoolfw.org
SUMMARY:Stay & Play and Enrichment as normal
DESCRIPTION:
URL:https://www.trinityschoolfw.org/event/stay-play-and-enrichment-as-normal/
CATEGORIES:Notice
END:VEVENT
BEGIN:VEVENT
DTSTART;VALUE=DATE:20251121
DTEND;VALUE=DATE:20251122
DTSTAMP:20260424T052300
CREATED:20250729T174913Z
LAST-MODIFIED:20250729T174913Z
UID:12819-1763683200-1763769599@www.trinityschoolfw.org
SUMMARY:Noon Dismissal – PreK & Bridge
DESCRIPTION:
URL:https://www.trinityschoolfw.org/event/noon-dismissal-prek-bridge-5/
CATEGORIES:Notice
END:VEVENT
BEGIN:VEVENT
DTSTART;VALUE=DATE:20251108
DTEND;VALUE=DATE:20251109
DTSTAMP:20260424T052300
CREATED:20250729T193042Z
LAST-MODIFIED:20250729T193042Z
UID:12932-1762560000-1762646399@www.trinityschoolfw.org
SUMMARY:Tiny Tailgaters
DESCRIPTION:
URL:https://www.trinityschoolfw.org/event/tiny-tailgaters-5/
CATEGORIES:Notice,School Events
END:VEVENT
BEGIN:VEVENT
DTSTART;VALUE=DATE:20251031
DTEND;VALUE=DATE:20251101
DTSTAMP:20260424T052300
CREATED:20250729T174624Z
LAST-MODIFIED:20250729T174624Z
UID:12813-1761868800-1761955199@www.trinityschoolfw.org
SUMMARY:All threes\, PreK & Bridge Halloween Carnivals – Noon Dismissal PreK & Bridge\, No Enrichments
DESCRIPTION:We will have Stay & Play
URL:https://www.trinityschoolfw.org/event/all-threes-prek-bridge-halloween-carnivals-noon-dismissal-prek-bridge-no-enrichments/
CATEGORIES:Notice,School Events
END:VEVENT
BEGIN:VEVENT
DTSTART;VALUE=DATE:20251030
DTEND;VALUE=DATE:20251031
DTSTAMP:20260424T052300
CREATED:20250729T174533Z
LAST-MODIFIED:20250729T174533Z
UID:12811-1761782400-1761868799@www.trinityschoolfw.org
SUMMARY:TTh & 4 Day T/2’s Halloween Party
DESCRIPTION:
URL:https://www.trinityschoolfw.org/event/tth-4-day-t-2s-halloween-party/
CATEGORIES:Notice,School Events
END:VEVENT
BEGIN:VEVENT
DTSTART;VALUE=DATE:20251029
DTEND;VALUE=DATE:20251030
DTSTAMP:20260424T052300
CREATED:20250729T174506Z
LAST-MODIFIED:20250729T174506Z
UID:12809-1761696000-1761782399@www.trinityschoolfw.org
SUMMARY:MW T/2’s Halloween Party
DESCRIPTION:
URL:https://www.trinityschoolfw.org/event/mw-t-2s-halloween-party-3/
CATEGORIES:Notice,School Events
END:VEVENT
BEGIN:VEVENT
DTSTART;VALUE=DATE:20251024
DTEND;VALUE=DATE:20251025
DTSTAMP:20260424T052300
CREATED:20250729T174447Z
LAST-MODIFIED:20250729T174447Z
UID:12807-1761264000-1761350399@www.trinityschoolfw.org
SUMMARY:Bridge - Wedding of Q&U
DESCRIPTION:
URL:https://www.trinityschoolfw.org/event/bridge-wedding-of-qu/
CATEGORIES:Notice,School Events
END:VEVENT
BEGIN:VEVENT
DTSTART;VALUE=DATE:20251018
DTEND;VALUE=DATE:20251019
DTSTAMP:20260424T052300
CREATED:20250729T193027Z
LAST-MODIFIED:20250729T193027Z
UID:12930-1760745600-1760831999@www.trinityschoolfw.org
SUMMARY:Tiny Tailgaters
DESCRIPTION:
URL:https://www.trinityschoolfw.org/event/tiny-tailgaters-4/
CATEGORIES:Notice,School Events
END:VEVENT
BEGIN:VEVENT
DTSTART;VALUE=DATE:20251017
DTEND;VALUE=DATE:20251018
DTSTAMP:20260424T052300
CREATED:20250729T174420Z
LAST-MODIFIED:20250729T174420Z
UID:12805-1760659200-1760745599@www.trinityschoolfw.org
SUMMARY:PreK Fiesta – Mexico
DESCRIPTION:
URL:https://www.trinityschoolfw.org/event/prek-fiesta-mexico-2/
CATEGORIES:Notice,School Events
END:VEVENT
BEGIN:VEVENT
DTSTART;VALUE=DATE:20251015
DTEND;VALUE=DATE:20251017
DTSTAMP:20260424T052300
CREATED:20250729T174351Z
LAST-MODIFIED:20250729T174351Z
UID:12803-1760486400-1760659199@www.trinityschoolfw.org
SUMMARY:School Pictures Days
DESCRIPTION:
URL:https://www.trinityschoolfw.org/event/school-pictures-days/
CATEGORIES:Notice,School Events
END:VEVENT
END:VCALENDAR